BEGIN:VCALENDAR
VERSION:2.0
PRODID:-//OCHM - ECPv6.15.20//NONSGML v1.0//EN
CALSCALE:GREGORIAN
METHOD:PUBLISH
X-ORIGINAL-URL:https://www.oldcolonyhistorymuseum.org
X-WR-CALDESC:Events for OCHM
REFRESH-INTERVAL;VALUE=DURATION:PT1H
X-Robots-Tag:noindex
X-PUBLISHED-TTL:PT1H
BEGIN:VTIMEZONE
TZID:UTC
BEGIN:STANDARD
TZOFFSETFROM:+0000
TZOFFSETTO:+0000
TZNAME:UTC
DTSTART:20280101T000000
END:STANDARD
END:VTIMEZONE
BEGIN:VEVENT
DTSTART;TZID=UTC:20290901T120000
DTEND;TZID=UTC:20290901T123000
DTSTAMP:20260421T163018
CREATED:20250718T195652Z
LAST-MODIFIED:20260213T181119Z
UID:10002316-1882958400-1882960200@www.oldcolonyhistorymuseum.org
SUMMARY:Guided Highlight Tour
DESCRIPTION:Join us every day at 12:00 PM for a Guided Highlight Tour of the Old Colony History Museum! In just 30 minutes\, you’ll discover fascinating stories\, meet standout objects from our collection\, and get a taste of the rich history that shaped Southeastern Massachusetts. Perfect for first-time visitors and locals alike—no reservation needed\, just drop in and enjoy a midday dose of history! \nGuided Highlight Tours are FREE with admission. Book your tickets to the visit the OCHM today!
URL:https://www.oldcolonyhistorymuseum.org/event/highlight-tour-of-the-museum-2/2029-09-01/
LOCATION:Old Colony History Museum\, 66 Church Green\, Taunton\, MA 02780\, Taunton\, MA\, 02780
CATEGORIES:Family-friendly,Free Public Programs,In-person Event
ATTACH;FMTTYPE=image/jpeg:https://www.oldcolonyhistorymuseum.org/wp-content/uploads/2020/01/Highlight-Tour-scaled.jpg
END:VEVENT
BEGIN:VEVENT
DTSTART;TZID=UTC:20290904T120000
DTEND;TZID=UTC:20290904T123000
DTSTAMP:20260421T163018
CREATED:20250718T195652Z
LAST-MODIFIED:20260213T181119Z
UID:10001785-1883217600-1883219400@www.oldcolonyhistorymuseum.org
SUMMARY:Guided Highlight Tour
DESCRIPTION:Join us every day at 12:00 PM for a Guided Highlight Tour of the Old Colony History Museum! In just 30 minutes\, you’ll discover fascinating stories\, meet standout objects from our collection\, and get a taste of the rich history that shaped Southeastern Massachusetts. Perfect for first-time visitors and locals alike—no reservation needed\, just drop in and enjoy a midday dose of history! \nGuided Highlight Tours are FREE with admission. Book your tickets to the visit the OCHM today!
URL:https://www.oldcolonyhistorymuseum.org/event/highlight-tour-of-the-museum-2/2029-09-04/
LOCATION:Old Colony History Museum\, 66 Church Green\, Taunton\, MA 02780\, Taunton\, MA\, 02780
CATEGORIES:Family-friendly,Free Public Programs,In-person Event
ATTACH;FMTTYPE=image/jpeg:https://www.oldcolonyhistorymuseum.org/wp-content/uploads/2020/01/Highlight-Tour-scaled.jpg
END:VEVENT
BEGIN:VEVENT
DTSTART;TZID=UTC:20290905T120000
DTEND;TZID=UTC:20290905T123000
DTSTAMP:20260421T163018
CREATED:20250718T195652Z
LAST-MODIFIED:20260213T181119Z
UID:10001786-1883304000-1883305800@www.oldcolonyhistorymuseum.org
SUMMARY:Guided Highlight Tour
DESCRIPTION:Join us every day at 12:00 PM for a Guided Highlight Tour of the Old Colony History Museum! In just 30 minutes\, you’ll discover fascinating stories\, meet standout objects from our collection\, and get a taste of the rich history that shaped Southeastern Massachusetts. Perfect for first-time visitors and locals alike—no reservation needed\, just drop in and enjoy a midday dose of history! \nGuided Highlight Tours are FREE with admission. Book your tickets to the visit the OCHM today!
URL:https://www.oldcolonyhistorymuseum.org/event/highlight-tour-of-the-museum-2/2029-09-05/
LOCATION:Old Colony History Museum\, 66 Church Green\, Taunton\, MA 02780\, Taunton\, MA\, 02780
CATEGORIES:Family-friendly,Free Public Programs,In-person Event
ATTACH;FMTTYPE=image/jpeg:https://www.oldcolonyhistorymuseum.org/wp-content/uploads/2020/01/Highlight-Tour-scaled.jpg
END:VEVENT
BEGIN:VEVENT
DTSTART;TZID=UTC:20290906T120000
DTEND;TZID=UTC:20290906T123000
DTSTAMP:20260421T163018
CREATED:20250718T195652Z
LAST-MODIFIED:20260213T181119Z
UID:10001787-1883390400-1883392200@www.oldcolonyhistorymuseum.org
SUMMARY:Guided Highlight Tour
DESCRIPTION:Join us every day at 12:00 PM for a Guided Highlight Tour of the Old Colony History Museum! In just 30 minutes\, you’ll discover fascinating stories\, meet standout objects from our collection\, and get a taste of the rich history that shaped Southeastern Massachusetts. Perfect for first-time visitors and locals alike—no reservation needed\, just drop in and enjoy a midday dose of history! \nGuided Highlight Tours are FREE with admission. Book your tickets to the visit the OCHM today!
URL:https://www.oldcolonyhistorymuseum.org/event/highlight-tour-of-the-museum-2/2029-09-06/
LOCATION:Old Colony History Museum\, 66 Church Green\, Taunton\, MA 02780\, Taunton\, MA\, 02780
CATEGORIES:Family-friendly,Free Public Programs,In-person Event
ATTACH;FMTTYPE=image/jpeg:https://www.oldcolonyhistorymuseum.org/wp-content/uploads/2020/01/Highlight-Tour-scaled.jpg
END:VEVENT
BEGIN:VEVENT
DTSTART;TZID=UTC:20290907T120000
DTEND;TZID=UTC:20290907T123000
DTSTAMP:20260421T163018
CREATED:20250718T195652Z
LAST-MODIFIED:20260213T181119Z
UID:10001788-1883476800-1883478600@www.oldcolonyhistorymuseum.org
SUMMARY:Guided Highlight Tour
DESCRIPTION:Join us every day at 12:00 PM for a Guided Highlight Tour of the Old Colony History Museum! In just 30 minutes\, you’ll discover fascinating stories\, meet standout objects from our collection\, and get a taste of the rich history that shaped Southeastern Massachusetts. Perfect for first-time visitors and locals alike—no reservation needed\, just drop in and enjoy a midday dose of history! \nGuided Highlight Tours are FREE with admission. Book your tickets to the visit the OCHM today!
URL:https://www.oldcolonyhistorymuseum.org/event/highlight-tour-of-the-museum-2/2029-09-07/
LOCATION:Old Colony History Museum\, 66 Church Green\, Taunton\, MA 02780\, Taunton\, MA\, 02780
CATEGORIES:Family-friendly,Free Public Programs,In-person Event
ATTACH;FMTTYPE=image/jpeg:https://www.oldcolonyhistorymuseum.org/wp-content/uploads/2020/01/Highlight-Tour-scaled.jpg
END:VEVENT
BEGIN:VEVENT
DTSTART;TZID=UTC:20290908T120000
DTEND;TZID=UTC:20290908T123000
DTSTAMP:20260421T163018
CREATED:20250718T195652Z
LAST-MODIFIED:20260213T181119Z
UID:10002317-1883563200-1883565000@www.oldcolonyhistorymuseum.org
SUMMARY:Guided Highlight Tour
DESCRIPTION:Join us every day at 12:00 PM for a Guided Highlight Tour of the Old Colony History Museum! In just 30 minutes\, you’ll discover fascinating stories\, meet standout objects from our collection\, and get a taste of the rich history that shaped Southeastern Massachusetts. Perfect for first-time visitors and locals alike—no reservation needed\, just drop in and enjoy a midday dose of history! \nGuided Highlight Tours are FREE with admission. Book your tickets to the visit the OCHM today!
URL:https://www.oldcolonyhistorymuseum.org/event/highlight-tour-of-the-museum-2/2029-09-08/
LOCATION:Old Colony History Museum\, 66 Church Green\, Taunton\, MA 02780\, Taunton\, MA\, 02780
CATEGORIES:Family-friendly,Free Public Programs,In-person Event
ATTACH;FMTTYPE=image/jpeg:https://www.oldcolonyhistorymuseum.org/wp-content/uploads/2020/01/Highlight-Tour-scaled.jpg
END:VEVENT
BEGIN:VEVENT
DTSTART;TZID=UTC:20290911T120000
DTEND;TZID=UTC:20290911T123000
DTSTAMP:20260421T163018
CREATED:20250718T195652Z
LAST-MODIFIED:20260213T181119Z
UID:10001792-1883822400-1883824200@www.oldcolonyhistorymuseum.org
SUMMARY:Guided Highlight Tour
DESCRIPTION:Join us every day at 12:00 PM for a Guided Highlight Tour of the Old Colony History Museum! In just 30 minutes\, you’ll discover fascinating stories\, meet standout objects from our collection\, and get a taste of the rich history that shaped Southeastern Massachusetts. Perfect for first-time visitors and locals alike—no reservation needed\, just drop in and enjoy a midday dose of history! \nGuided Highlight Tours are FREE with admission. Book your tickets to the visit the OCHM today!
URL:https://www.oldcolonyhistorymuseum.org/event/highlight-tour-of-the-museum-2/2029-09-11/
LOCATION:Old Colony History Museum\, 66 Church Green\, Taunton\, MA 02780\, Taunton\, MA\, 02780
CATEGORIES:Family-friendly,Free Public Programs,In-person Event
ATTACH;FMTTYPE=image/jpeg:https://www.oldcolonyhistorymuseum.org/wp-content/uploads/2020/01/Highlight-Tour-scaled.jpg
END:VEVENT
BEGIN:VEVENT
DTSTART;TZID=UTC:20290912T120000
DTEND;TZID=UTC:20290912T123000
DTSTAMP:20260421T163018
CREATED:20250718T195652Z
LAST-MODIFIED:20260213T181119Z
UID:10001793-1883908800-1883910600@www.oldcolonyhistorymuseum.org
SUMMARY:Guided Highlight Tour
DESCRIPTION:Join us every day at 12:00 PM for a Guided Highlight Tour of the Old Colony History Museum! In just 30 minutes\, you’ll discover fascinating stories\, meet standout objects from our collection\, and get a taste of the rich history that shaped Southeastern Massachusetts. Perfect for first-time visitors and locals alike—no reservation needed\, just drop in and enjoy a midday dose of history! \nGuided Highlight Tours are FREE with admission. Book your tickets to the visit the OCHM today!
URL:https://www.oldcolonyhistorymuseum.org/event/highlight-tour-of-the-museum-2/2029-09-12/
LOCATION:Old Colony History Museum\, 66 Church Green\, Taunton\, MA 02780\, Taunton\, MA\, 02780
CATEGORIES:Family-friendly,Free Public Programs,In-person Event
ATTACH;FMTTYPE=image/jpeg:https://www.oldcolonyhistorymuseum.org/wp-content/uploads/2020/01/Highlight-Tour-scaled.jpg
END:VEVENT
BEGIN:VEVENT
DTSTART;TZID=UTC:20290913T120000
DTEND;TZID=UTC:20290913T123000
DTSTAMP:20260421T163018
CREATED:20250718T195652Z
LAST-MODIFIED:20260213T181119Z
UID:10001794-1883995200-1883997000@www.oldcolonyhistorymuseum.org
SUMMARY:Guided Highlight Tour
DESCRIPTION:Join us every day at 12:00 PM for a Guided Highlight Tour of the Old Colony History Museum! In just 30 minutes\, you’ll discover fascinating stories\, meet standout objects from our collection\, and get a taste of the rich history that shaped Southeastern Massachusetts. Perfect for first-time visitors and locals alike—no reservation needed\, just drop in and enjoy a midday dose of history! \nGuided Highlight Tours are FREE with admission. Book your tickets to the visit the OCHM today!
URL:https://www.oldcolonyhistorymuseum.org/event/highlight-tour-of-the-museum-2/2029-09-13/
LOCATION:Old Colony History Museum\, 66 Church Green\, Taunton\, MA 02780\, Taunton\, MA\, 02780
CATEGORIES:Family-friendly,Free Public Programs,In-person Event
ATTACH;FMTTYPE=image/jpeg:https://www.oldcolonyhistorymuseum.org/wp-content/uploads/2020/01/Highlight-Tour-scaled.jpg
END:VEVENT
BEGIN:VEVENT
DTSTART;TZID=UTC:20290914T120000
DTEND;TZID=UTC:20290914T123000
DTSTAMP:20260421T163018
CREATED:20250718T195652Z
LAST-MODIFIED:20260213T181119Z
UID:10001795-1884081600-1884083400@www.oldcolonyhistorymuseum.org
SUMMARY:Guided Highlight Tour
DESCRIPTION:Join us every day at 12:00 PM for a Guided Highlight Tour of the Old Colony History Museum! In just 30 minutes\, you’ll discover fascinating stories\, meet standout objects from our collection\, and get a taste of the rich history that shaped Southeastern Massachusetts. Perfect for first-time visitors and locals alike—no reservation needed\, just drop in and enjoy a midday dose of history! \nGuided Highlight Tours are FREE with admission. Book your tickets to the visit the OCHM today!
URL:https://www.oldcolonyhistorymuseum.org/event/highlight-tour-of-the-museum-2/2029-09-14/
LOCATION:Old Colony History Museum\, 66 Church Green\, Taunton\, MA 02780\, Taunton\, MA\, 02780
CATEGORIES:Family-friendly,Free Public Programs,In-person Event
ATTACH;FMTTYPE=image/jpeg:https://www.oldcolonyhistorymuseum.org/wp-content/uploads/2020/01/Highlight-Tour-scaled.jpg
END:VEVENT
BEGIN:VEVENT
DTSTART;TZID=UTC:20290915T120000
DTEND;TZID=UTC:20290915T123000
DTSTAMP:20260421T163018
CREATED:20250718T195652Z
LAST-MODIFIED:20260213T181119Z
UID:10002318-1884168000-1884169800@www.oldcolonyhistorymuseum.org
SUMMARY:Guided Highlight Tour
DESCRIPTION:Join us every day at 12:00 PM for a Guided Highlight Tour of the Old Colony History Museum! In just 30 minutes\, you’ll discover fascinating stories\, meet standout objects from our collection\, and get a taste of the rich history that shaped Southeastern Massachusetts. Perfect for first-time visitors and locals alike—no reservation needed\, just drop in and enjoy a midday dose of history! \nGuided Highlight Tours are FREE with admission. Book your tickets to the visit the OCHM today!
URL:https://www.oldcolonyhistorymuseum.org/event/highlight-tour-of-the-museum-2/2029-09-15/
LOCATION:Old Colony History Museum\, 66 Church Green\, Taunton\, MA 02780\, Taunton\, MA\, 02780
CATEGORIES:Family-friendly,Free Public Programs,In-person Event
ATTACH;FMTTYPE=image/jpeg:https://www.oldcolonyhistorymuseum.org/wp-content/uploads/2020/01/Highlight-Tour-scaled.jpg
END:VEVENT
BEGIN:VEVENT
DTSTART;TZID=UTC:20290918T120000
DTEND;TZID=UTC:20290918T123000
DTSTAMP:20260421T163018
CREATED:20250718T195652Z
LAST-MODIFIED:20260213T181119Z
UID:10001799-1884427200-1884429000@www.oldcolonyhistorymuseum.org
SUMMARY:Guided Highlight Tour
DESCRIPTION:Join us every day at 12:00 PM for a Guided Highlight Tour of the Old Colony History Museum! In just 30 minutes\, you’ll discover fascinating stories\, meet standout objects from our collection\, and get a taste of the rich history that shaped Southeastern Massachusetts. Perfect for first-time visitors and locals alike—no reservation needed\, just drop in and enjoy a midday dose of history! \nGuided Highlight Tours are FREE with admission. Book your tickets to the visit the OCHM today!
URL:https://www.oldcolonyhistorymuseum.org/event/highlight-tour-of-the-museum-2/2029-09-18/
LOCATION:Old Colony History Museum\, 66 Church Green\, Taunton\, MA 02780\, Taunton\, MA\, 02780
CATEGORIES:Family-friendly,Free Public Programs,In-person Event
ATTACH;FMTTYPE=image/jpeg:https://www.oldcolonyhistorymuseum.org/wp-content/uploads/2020/01/Highlight-Tour-scaled.jpg
END:VEVENT
BEGIN:VEVENT
DTSTART;TZID=UTC:20290919T120000
DTEND;TZID=UTC:20290919T123000
DTSTAMP:20260421T163018
CREATED:20250718T195652Z
LAST-MODIFIED:20260213T181119Z
UID:10001800-1884513600-1884515400@www.oldcolonyhistorymuseum.org
SUMMARY:Guided Highlight Tour
DESCRIPTION:Join us every day at 12:00 PM for a Guided Highlight Tour of the Old Colony History Museum! In just 30 minutes\, you’ll discover fascinating stories\, meet standout objects from our collection\, and get a taste of the rich history that shaped Southeastern Massachusetts. Perfect for first-time visitors and locals alike—no reservation needed\, just drop in and enjoy a midday dose of history! \nGuided Highlight Tours are FREE with admission. Book your tickets to the visit the OCHM today!
URL:https://www.oldcolonyhistorymuseum.org/event/highlight-tour-of-the-museum-2/2029-09-19/
LOCATION:Old Colony History Museum\, 66 Church Green\, Taunton\, MA 02780\, Taunton\, MA\, 02780
CATEGORIES:Family-friendly,Free Public Programs,In-person Event
ATTACH;FMTTYPE=image/jpeg:https://www.oldcolonyhistorymuseum.org/wp-content/uploads/2020/01/Highlight-Tour-scaled.jpg
END:VEVENT
BEGIN:VEVENT
DTSTART;TZID=UTC:20290920T120000
DTEND;TZID=UTC:20290920T123000
DTSTAMP:20260421T163018
CREATED:20250718T195652Z
LAST-MODIFIED:20260213T181119Z
UID:10001801-1884600000-1884601800@www.oldcolonyhistorymuseum.org
SUMMARY:Guided Highlight Tour
DESCRIPTION:Join us every day at 12:00 PM for a Guided Highlight Tour of the Old Colony History Museum! In just 30 minutes\, you’ll discover fascinating stories\, meet standout objects from our collection\, and get a taste of the rich history that shaped Southeastern Massachusetts. Perfect for first-time visitors and locals alike—no reservation needed\, just drop in and enjoy a midday dose of history! \nGuided Highlight Tours are FREE with admission. Book your tickets to the visit the OCHM today!
URL:https://www.oldcolonyhistorymuseum.org/event/highlight-tour-of-the-museum-2/2029-09-20/
LOCATION:Old Colony History Museum\, 66 Church Green\, Taunton\, MA 02780\, Taunton\, MA\, 02780
CATEGORIES:Family-friendly,Free Public Programs,In-person Event
ATTACH;FMTTYPE=image/jpeg:https://www.oldcolonyhistorymuseum.org/wp-content/uploads/2020/01/Highlight-Tour-scaled.jpg
END:VEVENT
BEGIN:VEVENT
DTSTART;TZID=UTC:20290921T120000
DTEND;TZID=UTC:20290921T123000
DTSTAMP:20260421T163018
CREATED:20250718T195652Z
LAST-MODIFIED:20260213T181119Z
UID:10001802-1884686400-1884688200@www.oldcolonyhistorymuseum.org
SUMMARY:Guided Highlight Tour
DESCRIPTION:Join us every day at 12:00 PM for a Guided Highlight Tour of the Old Colony History Museum! In just 30 minutes\, you’ll discover fascinating stories\, meet standout objects from our collection\, and get a taste of the rich history that shaped Southeastern Massachusetts. Perfect for first-time visitors and locals alike—no reservation needed\, just drop in and enjoy a midday dose of history! \nGuided Highlight Tours are FREE with admission. Book your tickets to the visit the OCHM today!
URL:https://www.oldcolonyhistorymuseum.org/event/highlight-tour-of-the-museum-2/2029-09-21/
LOCATION:Old Colony History Museum\, 66 Church Green\, Taunton\, MA 02780\, Taunton\, MA\, 02780
CATEGORIES:Family-friendly,Free Public Programs,In-person Event
ATTACH;FMTTYPE=image/jpeg:https://www.oldcolonyhistorymuseum.org/wp-content/uploads/2020/01/Highlight-Tour-scaled.jpg
END:VEVENT
BEGIN:VEVENT
DTSTART;TZID=UTC:20290922T120000
DTEND;TZID=UTC:20290922T123000
DTSTAMP:20260421T163018
CREATED:20250718T195652Z
LAST-MODIFIED:20260213T181119Z
UID:10002319-1884772800-1884774600@www.oldcolonyhistorymuseum.org
SUMMARY:Guided Highlight Tour
DESCRIPTION:Join us every day at 12:00 PM for a Guided Highlight Tour of the Old Colony History Museum! In just 30 minutes\, you’ll discover fascinating stories\, meet standout objects from our collection\, and get a taste of the rich history that shaped Southeastern Massachusetts. Perfect for first-time visitors and locals alike—no reservation needed\, just drop in and enjoy a midday dose of history! \nGuided Highlight Tours are FREE with admission. Book your tickets to the visit the OCHM today!
URL:https://www.oldcolonyhistorymuseum.org/event/highlight-tour-of-the-museum-2/2029-09-22/
LOCATION:Old Colony History Museum\, 66 Church Green\, Taunton\, MA 02780\, Taunton\, MA\, 02780
CATEGORIES:Family-friendly,Free Public Programs,In-person Event
ATTACH;FMTTYPE=image/jpeg:https://www.oldcolonyhistorymuseum.org/wp-content/uploads/2020/01/Highlight-Tour-scaled.jpg
END:VEVENT
BEGIN:VEVENT
DTSTART;TZID=UTC:20290925T120000
DTEND;TZID=UTC:20290925T123000
DTSTAMP:20260421T163018
CREATED:20250718T195652Z
LAST-MODIFIED:20260213T181119Z
UID:10001806-1885032000-1885033800@www.oldcolonyhistorymuseum.org
SUMMARY:Guided Highlight Tour
DESCRIPTION:Join us every day at 12:00 PM for a Guided Highlight Tour of the Old Colony History Museum! In just 30 minutes\, you’ll discover fascinating stories\, meet standout objects from our collection\, and get a taste of the rich history that shaped Southeastern Massachusetts. Perfect for first-time visitors and locals alike—no reservation needed\, just drop in and enjoy a midday dose of history! \nGuided Highlight Tours are FREE with admission. Book your tickets to the visit the OCHM today!
URL:https://www.oldcolonyhistorymuseum.org/event/highlight-tour-of-the-museum-2/2029-09-25/
LOCATION:Old Colony History Museum\, 66 Church Green\, Taunton\, MA 02780\, Taunton\, MA\, 02780
CATEGORIES:Family-friendly,Free Public Programs,In-person Event
ATTACH;FMTTYPE=image/jpeg:https://www.oldcolonyhistorymuseum.org/wp-content/uploads/2020/01/Highlight-Tour-scaled.jpg
END:VEVENT
BEGIN:VEVENT
DTSTART;TZID=UTC:20290926T120000
DTEND;TZID=UTC:20290926T123000
DTSTAMP:20260421T163018
CREATED:20250718T195652Z
LAST-MODIFIED:20260213T181119Z
UID:10001807-1885118400-1885120200@www.oldcolonyhistorymuseum.org
SUMMARY:Guided Highlight Tour
DESCRIPTION:Join us every day at 12:00 PM for a Guided Highlight Tour of the Old Colony History Museum! In just 30 minutes\, you’ll discover fascinating stories\, meet standout objects from our collection\, and get a taste of the rich history that shaped Southeastern Massachusetts. Perfect for first-time visitors and locals alike—no reservation needed\, just drop in and enjoy a midday dose of history! \nGuided Highlight Tours are FREE with admission. Book your tickets to the visit the OCHM today!
URL:https://www.oldcolonyhistorymuseum.org/event/highlight-tour-of-the-museum-2/2029-09-26/
LOCATION:Old Colony History Museum\, 66 Church Green\, Taunton\, MA 02780\, Taunton\, MA\, 02780
CATEGORIES:Family-friendly,Free Public Programs,In-person Event
ATTACH;FMTTYPE=image/jpeg:https://www.oldcolonyhistorymuseum.org/wp-content/uploads/2020/01/Highlight-Tour-scaled.jpg
END:VEVENT
BEGIN:VEVENT
DTSTART;TZID=UTC:20290927T120000
DTEND;TZID=UTC:20290927T123000
DTSTAMP:20260421T163018
CREATED:20250718T195652Z
LAST-MODIFIED:20260213T181119Z
UID:10001808-1885204800-1885206600@www.oldcolonyhistorymuseum.org
SUMMARY:Guided Highlight Tour
DESCRIPTION:Join us every day at 12:00 PM for a Guided Highlight Tour of the Old Colony History Museum! In just 30 minutes\, you’ll discover fascinating stories\, meet standout objects from our collection\, and get a taste of the rich history that shaped Southeastern Massachusetts. Perfect for first-time visitors and locals alike—no reservation needed\, just drop in and enjoy a midday dose of history! \nGuided Highlight Tours are FREE with admission. Book your tickets to the visit the OCHM today!
URL:https://www.oldcolonyhistorymuseum.org/event/highlight-tour-of-the-museum-2/2029-09-27/
LOCATION:Old Colony History Museum\, 66 Church Green\, Taunton\, MA 02780\, Taunton\, MA\, 02780
CATEGORIES:Family-friendly,Free Public Programs,In-person Event
ATTACH;FMTTYPE=image/jpeg:https://www.oldcolonyhistorymuseum.org/wp-content/uploads/2020/01/Highlight-Tour-scaled.jpg
END:VEVENT
BEGIN:VEVENT
DTSTART;TZID=UTC:20290928T120000
DTEND;TZID=UTC:20290928T123000
DTSTAMP:20260421T163018
CREATED:20250718T195652Z
LAST-MODIFIED:20260213T181119Z
UID:10001809-1885291200-1885293000@www.oldcolonyhistorymuseum.org
SUMMARY:Guided Highlight Tour
DESCRIPTION:Join us every day at 12:00 PM for a Guided Highlight Tour of the Old Colony History Museum! In just 30 minutes\, you’ll discover fascinating stories\, meet standout objects from our collection\, and get a taste of the rich history that shaped Southeastern Massachusetts. Perfect for first-time visitors and locals alike—no reservation needed\, just drop in and enjoy a midday dose of history! \nGuided Highlight Tours are FREE with admission. Book your tickets to the visit the OCHM today!
URL:https://www.oldcolonyhistorymuseum.org/event/highlight-tour-of-the-museum-2/2029-09-28/
LOCATION:Old Colony History Museum\, 66 Church Green\, Taunton\, MA 02780\, Taunton\, MA\, 02780
CATEGORIES:Family-friendly,Free Public Programs,In-person Event
ATTACH;FMTTYPE=image/jpeg:https://www.oldcolonyhistorymuseum.org/wp-content/uploads/2020/01/Highlight-Tour-scaled.jpg
END:VEVENT
BEGIN:VEVENT
DTSTART;TZID=UTC:20290929T120000
DTEND;TZID=UTC:20290929T123000
DTSTAMP:20260421T163018
CREATED:20250718T195652Z
LAST-MODIFIED:20260213T181119Z
UID:10002320-1885377600-1885379400@www.oldcolonyhistorymuseum.org
SUMMARY:Guided Highlight Tour
DESCRIPTION:Join us every day at 12:00 PM for a Guided Highlight Tour of the Old Colony History Museum! In just 30 minutes\, you’ll discover fascinating stories\, meet standout objects from our collection\, and get a taste of the rich history that shaped Southeastern Massachusetts. Perfect for first-time visitors and locals alike—no reservation needed\, just drop in and enjoy a midday dose of history! \nGuided Highlight Tours are FREE with admission. Book your tickets to the visit the OCHM today!
URL:https://www.oldcolonyhistorymuseum.org/event/highlight-tour-of-the-museum-2/2029-09-29/
LOCATION:Old Colony History Museum\, 66 Church Green\, Taunton\, MA 02780\, Taunton\, MA\, 02780
CATEGORIES:Family-friendly,Free Public Programs,In-person Event
ATTACH;FMTTYPE=image/jpeg:https://www.oldcolonyhistorymuseum.org/wp-content/uploads/2020/01/Highlight-Tour-scaled.jpg
END:VEVENT
END:VCALENDAR