BEGIN:VCALENDAR
VERSION:2.0
PRODID:-//OCHM - ECPv6.15.20//NONSGML v1.0//EN
CALSCALE:GREGORIAN
METHOD:PUBLISH
X-WR-CALNAME:OCHM
X-ORIGINAL-URL:https://www.oldcolonyhistorymuseum.org
X-WR-CALDESC:Events for OCHM
REFRESH-INTERVAL;VALUE=DURATION:PT1H
X-Robots-Tag:noindex
X-PUBLISHED-TTL:PT1H
BEGIN:VTIMEZONE
TZID:UTC
BEGIN:STANDARD
TZOFFSETFROM:+0000
TZOFFSETTO:+0000
TZNAME:UTC
DTSTART:20250101T000000
END:STANDARD
END:VTIMEZONE
BEGIN:VEVENT
DTSTART;TZID=UTC:20260421T120000
DTEND;TZID=UTC:20260421T123000
DTSTAMP:20260421T054546
CREATED:20250718T195652Z
LAST-MODIFIED:20260213T181119Z
UID:10000553-1776772800-1776774600@www.oldcolonyhistorymuseum.org
SUMMARY:Guided Highlight Tour
DESCRIPTION:Join us every day at 12:00 PM for a Guided Highlight Tour of the Old Colony History Museum! In just 30 minutes\, you’ll discover fascinating stories\, meet standout objects from our collection\, and get a taste of the rich history that shaped Southeastern Massachusetts. Perfect for first-time visitors and locals alike—no reservation needed\, just drop in and enjoy a midday dose of history! \nGuided Highlight Tours are FREE with admission. Book your tickets to the visit the OCHM today!
URL:https://www.oldcolonyhistorymuseum.org/event/highlight-tour-of-the-museum-2/2026-04-21/
LOCATION:Old Colony History Museum\, 66 Church Green\, Taunton\, MA 02780\, Taunton\, MA\, 02780
CATEGORIES:Family-friendly,Free Public Programs,In-person Event
ATTACH;FMTTYPE=image/jpeg:https://www.oldcolonyhistorymuseum.org/wp-content/uploads/2020/01/Highlight-Tour-scaled.jpg
END:VEVENT
BEGIN:VEVENT
DTSTART;TZID=UTC:20260422T120000
DTEND;TZID=UTC:20260422T123000
DTSTAMP:20260421T054546
CREATED:20250718T195652Z
LAST-MODIFIED:20260213T181119Z
UID:10000554-1776859200-1776861000@www.oldcolonyhistorymuseum.org
SUMMARY:Guided Highlight Tour
DESCRIPTION:Join us every day at 12:00 PM for a Guided Highlight Tour of the Old Colony History Museum! In just 30 minutes\, you’ll discover fascinating stories\, meet standout objects from our collection\, and get a taste of the rich history that shaped Southeastern Massachusetts. Perfect for first-time visitors and locals alike—no reservation needed\, just drop in and enjoy a midday dose of history! \nGuided Highlight Tours are FREE with admission. Book your tickets to the visit the OCHM today!
URL:https://www.oldcolonyhistorymuseum.org/event/highlight-tour-of-the-museum-2/2026-04-22/
LOCATION:Old Colony History Museum\, 66 Church Green\, Taunton\, MA 02780\, Taunton\, MA\, 02780
CATEGORIES:Family-friendly,Free Public Programs,In-person Event
ATTACH;FMTTYPE=image/jpeg:https://www.oldcolonyhistorymuseum.org/wp-content/uploads/2020/01/Highlight-Tour-scaled.jpg
END:VEVENT
BEGIN:VEVENT
DTSTART;TZID=UTC:20260423T120000
DTEND;TZID=UTC:20260423T123000
DTSTAMP:20260421T054546
CREATED:20250718T195652Z
LAST-MODIFIED:20260213T181119Z
UID:10000555-1776945600-1776947400@www.oldcolonyhistorymuseum.org
SUMMARY:Guided Highlight Tour
DESCRIPTION:Join us every day at 12:00 PM for a Guided Highlight Tour of the Old Colony History Museum! In just 30 minutes\, you’ll discover fascinating stories\, meet standout objects from our collection\, and get a taste of the rich history that shaped Southeastern Massachusetts. Perfect for first-time visitors and locals alike—no reservation needed\, just drop in and enjoy a midday dose of history! \nGuided Highlight Tours are FREE with admission. Book your tickets to the visit the OCHM today!
URL:https://www.oldcolonyhistorymuseum.org/event/highlight-tour-of-the-museum-2/2026-04-23/
LOCATION:Old Colony History Museum\, 66 Church Green\, Taunton\, MA 02780\, Taunton\, MA\, 02780
CATEGORIES:Family-friendly,Free Public Programs,In-person Event
ATTACH;FMTTYPE=image/jpeg:https://www.oldcolonyhistorymuseum.org/wp-content/uploads/2020/01/Highlight-Tour-scaled.jpg
END:VEVENT
BEGIN:VEVENT
DTSTART;TZID=UTC:20260424T120000
DTEND;TZID=UTC:20260424T123000
DTSTAMP:20260421T054546
CREATED:20250718T195652Z
LAST-MODIFIED:20260213T181119Z
UID:10000556-1777032000-1777033800@www.oldcolonyhistorymuseum.org
SUMMARY:Guided Highlight Tour
DESCRIPTION:Join us every day at 12:00 PM for a Guided Highlight Tour of the Old Colony History Museum! In just 30 minutes\, you’ll discover fascinating stories\, meet standout objects from our collection\, and get a taste of the rich history that shaped Southeastern Massachusetts. Perfect for first-time visitors and locals alike—no reservation needed\, just drop in and enjoy a midday dose of history! \nGuided Highlight Tours are FREE with admission. Book your tickets to the visit the OCHM today!
URL:https://www.oldcolonyhistorymuseum.org/event/highlight-tour-of-the-museum-2/2026-04-24/
LOCATION:Old Colony History Museum\, 66 Church Green\, Taunton\, MA 02780\, Taunton\, MA\, 02780
CATEGORIES:Family-friendly,Free Public Programs,In-person Event
ATTACH;FMTTYPE=image/jpeg:https://www.oldcolonyhistorymuseum.org/wp-content/uploads/2020/01/Highlight-Tour-scaled.jpg
END:VEVENT
BEGIN:VEVENT
DTSTART;TZID=UTC:20260424T171500
DTEND;TZID=UTC:20260424T180000
DTSTAMP:20260421T054546
CREATED:20260325T160729Z
LAST-MODIFIED:20260403T175956Z
UID:10003368-1777050900-1777053600@www.oldcolonyhistorymuseum.org
SUMMARY:Beer with Bronson: The 1920s
DESCRIPTION:Join Curator of Collections Bronson Michaud for a pint (or root beer) and some fun history in this fan favorite OCHM program. Each installment features a different theme drawn from the museum’s collections. For this edition\, Bronson will present a curated selection of objects from the 1920s that are rarely\, if ever\, on view. \nTickets are $5/OCHM Member\, and $10/non-member and go on sale April 1. \nNot yet a member? Join today for this and other great member benefits throughout the year at https://www.oldcolonyhistorymuseum.org/membership/. \nSpecial thanks to our beer sponsors\, Berkley Beer Company\, for the delicious brews we enjoy at each program. \n 
URL:https://www.oldcolonyhistorymuseum.org/event/beer-with-bronson-the-1920s/
LOCATION:Old Colony History Museum\, 66 Church Green\, Taunton\, MA 02780\, Taunton\, MA\, 02780
CATEGORIES:In-person Event,Member Discount,Ticketed Event
ATTACH;FMTTYPE=image/png:https://www.oldcolonyhistorymuseum.org/wp-content/uploads/2026/03/square-logo.png
END:VEVENT
BEGIN:VEVENT
DTSTART;TZID=UTC:20260425T120000
DTEND;TZID=UTC:20260425T123000
DTSTAMP:20260421T054546
CREATED:20250718T195652Z
LAST-MODIFIED:20260213T181119Z
UID:10002141-1777118400-1777120200@www.oldcolonyhistorymuseum.org
SUMMARY:Guided Highlight Tour
DESCRIPTION:Join us every day at 12:00 PM for a Guided Highlight Tour of the Old Colony History Museum! In just 30 minutes\, you’ll discover fascinating stories\, meet standout objects from our collection\, and get a taste of the rich history that shaped Southeastern Massachusetts. Perfect for first-time visitors and locals alike—no reservation needed\, just drop in and enjoy a midday dose of history! \nGuided Highlight Tours are FREE with admission. Book your tickets to the visit the OCHM today!
URL:https://www.oldcolonyhistorymuseum.org/event/highlight-tour-of-the-museum-2/2026-04-25/
LOCATION:Old Colony History Museum\, 66 Church Green\, Taunton\, MA 02780\, Taunton\, MA\, 02780
CATEGORIES:Family-friendly,Free Public Programs,In-person Event
ATTACH;FMTTYPE=image/jpeg:https://www.oldcolonyhistorymuseum.org/wp-content/uploads/2020/01/Highlight-Tour-scaled.jpg
END:VEVENT
BEGIN:VEVENT
DTSTART;TZID=UTC:20260428T120000
DTEND;TZID=UTC:20260428T123000
DTSTAMP:20260421T054546
CREATED:20250718T195652Z
LAST-MODIFIED:20260213T181119Z
UID:10000560-1777377600-1777379400@www.oldcolonyhistorymuseum.org
SUMMARY:Guided Highlight Tour
DESCRIPTION:Join us every day at 12:00 PM for a Guided Highlight Tour of the Old Colony History Museum! In just 30 minutes\, you’ll discover fascinating stories\, meet standout objects from our collection\, and get a taste of the rich history that shaped Southeastern Massachusetts. Perfect for first-time visitors and locals alike—no reservation needed\, just drop in and enjoy a midday dose of history! \nGuided Highlight Tours are FREE with admission. Book your tickets to the visit the OCHM today!
URL:https://www.oldcolonyhistorymuseum.org/event/highlight-tour-of-the-museum-2/2026-04-28/
LOCATION:Old Colony History Museum\, 66 Church Green\, Taunton\, MA 02780\, Taunton\, MA\, 02780
CATEGORIES:Family-friendly,Free Public Programs,In-person Event
ATTACH;FMTTYPE=image/jpeg:https://www.oldcolonyhistorymuseum.org/wp-content/uploads/2020/01/Highlight-Tour-scaled.jpg
END:VEVENT
BEGIN:VEVENT
DTSTART;TZID=UTC:20260429T120000
DTEND;TZID=UTC:20260429T123000
DTSTAMP:20260421T054546
CREATED:20250718T195652Z
LAST-MODIFIED:20260213T181119Z
UID:10000561-1777464000-1777465800@www.oldcolonyhistorymuseum.org
SUMMARY:Guided Highlight Tour
DESCRIPTION:Join us every day at 12:00 PM for a Guided Highlight Tour of the Old Colony History Museum! In just 30 minutes\, you’ll discover fascinating stories\, meet standout objects from our collection\, and get a taste of the rich history that shaped Southeastern Massachusetts. Perfect for first-time visitors and locals alike—no reservation needed\, just drop in and enjoy a midday dose of history! \nGuided Highlight Tours are FREE with admission. Book your tickets to the visit the OCHM today!
URL:https://www.oldcolonyhistorymuseum.org/event/highlight-tour-of-the-museum-2/2026-04-29/
LOCATION:Old Colony History Museum\, 66 Church Green\, Taunton\, MA 02780\, Taunton\, MA\, 02780
CATEGORIES:Family-friendly,Free Public Programs,In-person Event
ATTACH;FMTTYPE=image/jpeg:https://www.oldcolonyhistorymuseum.org/wp-content/uploads/2020/01/Highlight-Tour-scaled.jpg
END:VEVENT
BEGIN:VEVENT
DTSTART;TZID=UTC:20260430T120000
DTEND;TZID=UTC:20260430T123000
DTSTAMP:20260421T054546
CREATED:20250718T195652Z
LAST-MODIFIED:20260213T181119Z
UID:10000562-1777550400-1777552200@www.oldcolonyhistorymuseum.org
SUMMARY:Guided Highlight Tour
DESCRIPTION:Join us every day at 12:00 PM for a Guided Highlight Tour of the Old Colony History Museum! In just 30 minutes\, you’ll discover fascinating stories\, meet standout objects from our collection\, and get a taste of the rich history that shaped Southeastern Massachusetts. Perfect for first-time visitors and locals alike—no reservation needed\, just drop in and enjoy a midday dose of history! \nGuided Highlight Tours are FREE with admission. Book your tickets to the visit the OCHM today!
URL:https://www.oldcolonyhistorymuseum.org/event/highlight-tour-of-the-museum-2/2026-04-30/
LOCATION:Old Colony History Museum\, 66 Church Green\, Taunton\, MA 02780\, Taunton\, MA\, 02780
CATEGORIES:Family-friendly,Free Public Programs,In-person Event
ATTACH;FMTTYPE=image/jpeg:https://www.oldcolonyhistorymuseum.org/wp-content/uploads/2020/01/Highlight-Tour-scaled.jpg
END:VEVENT
END:VCALENDAR